BEGIN:VCALENDAR
VERSION:2.0
PRODID:-//Friends of Jesus e.V. - ECPv6.15.20//NONSGML v1.0//EN
CALSCALE:GREGORIAN
METHOD:PUBLISH
X-WR-CALNAME:Friends of Jesus e.V.
X-ORIGINAL-URL:https://friends-of-jesus.de
X-WR-CALDESC:Veranstaltungen für Friends of Jesus e.V.
REFRESH-INTERVAL;VALUE=DURATION:PT1H
X-Robots-Tag:noindex
X-PUBLISHED-TTL:PT1H
BEGIN:VTIMEZONE
TZID:Europe/Berlin
BEGIN:DAYLIGHT
TZOFFSETFROM:+0100
TZOFFSETTO:+0200
TZNAME:CEST
DTSTART:20240331T010000
END:DAYLIGHT
BEGIN:STANDARD
TZOFFSETFROM:+0200
TZOFFSETTO:+0100
TZNAME:CET
DTSTART:20241027T010000
END:STANDARD
BEGIN:DAYLIGHT
TZOFFSETFROM:+0100
TZOFFSETTO:+0200
TZNAME:CEST
DTSTART:20250330T010000
END:DAYLIGHT
BEGIN:STANDARD
TZOFFSETFROM:+0200
TZOFFSETTO:+0100
TZNAME:CET
DTSTART:20251026T010000
END:STANDARD
BEGIN:DAYLIGHT
TZOFFSETFROM:+0100
TZOFFSETTO:+0200
TZNAME:CEST
DTSTART:20260329T010000
END:DAYLIGHT
BEGIN:STANDARD
TZOFFSETFROM:+0200
TZOFFSETTO:+0100
TZNAME:CET
DTSTART:20261025T010000
END:STANDARD
END:VTIMEZONE
BEGIN:VEVENT
DTSTART;TZID=Europe/Berlin:20250516T183000
DTEND;TZID=Europe/Berlin:20250516T203000
DTSTAMP:20260421T042116
CREATED:20250510T092851Z
LAST-MODIFIED:20250510T093130Z
UID:10002204-1747420200-1747427400@friends-of-jesus.de
SUMMARY:offener Lobpreis- & Gebetsabend
DESCRIPTION:Herzliche Einladung zu unserem Lobpreis- & Gebetsabend – jeder ist ❤️lich Willkommen!
URL:https://friends-of-jesus.de/event/offener-lobpreis-gebetsabend/
LOCATION:FOJ-Halle\, Im Hähnchen 8\, Altenkirchen\, RLP\, 57610\, Deutschland
ATTACH;FMTTYPE=image/png:https://friends-of-jesus.de/wp-content/uploads/2025/05/2025.05-GoDi-Benjamin-Deitrick-USA-1.png
ORGANIZER;CN="Friends of Jesus":MAILTO:info@friends-of-jesus.de
END:VEVENT
END:VCALENDAR