BEGIN:VCALENDAR
VERSION:2.0
PRODID:-//Friends of Jesus e.V. - ECPv6.15.20//NONSGML v1.0//EN
CALSCALE:GREGORIAN
METHOD:PUBLISH
X-ORIGINAL-URL:https://friends-of-jesus.de
X-WR-CALDESC:Veranstaltungen für Friends of Jesus e.V.
REFRESH-INTERVAL;VALUE=DURATION:PT1H
X-Robots-Tag:noindex
X-PUBLISHED-TTL:PT1H
BEGIN:VTIMEZONE
TZID:Europe/Berlin
BEGIN:DAYLIGHT
TZOFFSETFROM:+0100
TZOFFSETTO:+0200
TZNAME:CEST
DTSTART:20240331T010000
END:DAYLIGHT
BEGIN:STANDARD
TZOFFSETFROM:+0200
TZOFFSETTO:+0100
TZNAME:CET
DTSTART:20241027T010000
END:STANDARD
BEGIN:DAYLIGHT
TZOFFSETFROM:+0100
TZOFFSETTO:+0200
TZNAME:CEST
DTSTART:20250330T010000
END:DAYLIGHT
BEGIN:STANDARD
TZOFFSETFROM:+0200
TZOFFSETTO:+0100
TZNAME:CET
DTSTART:20251026T010000
END:STANDARD
BEGIN:DAYLIGHT
TZOFFSETFROM:+0100
TZOFFSETTO:+0200
TZNAME:CEST
DTSTART:20260329T010000
END:DAYLIGHT
BEGIN:STANDARD
TZOFFSETFROM:+0200
TZOFFSETTO:+0100
TZNAME:CET
DTSTART:20261025T010000
END:STANDARD
END:VTIMEZONE
BEGIN:VEVENT
DTSTART;TZID=Europe/Berlin:20250627T180000
DTEND;TZID=Europe/Berlin:20250627T233000
DTSTAMP:20260421T055343
CREATED:20250623T144714Z
LAST-MODIFIED:20250623T152541Z
UID:10002205-1751047200-1751067000@friends-of-jesus.de
SUMMARY:Toskanische Nacht
DESCRIPTION:Der Aktionskreis Altenkirchen lädt ein zur toskanischen Nacht! Am 27. Juni 2025 ist es wieder soweit\, dann begeistert Altenkirchen mit tollem Ambiente\, musikalischer Untermalung und außergewöhnlichen Ständen mit toskanischem Flair zum Einklang auf die Sommerferien. \nWir sind auch mit dabei mit \n\nleckeren Kaffeespezialitäten\nSpiel & Spaß für Kids\nkleinem Flohmarkt\nund mehr\n\nWir freuen uns\, euch an diesem besonderen Abend in Altenkirchen zu treffen!
URL:https://friends-of-jesus.de/event/toskanische-nacht/
LOCATION:Fußgängerzone Alktenkirchen\, Wilhelmstraße\, Altenkirchen\, 57610
CATEGORIES:Featured
ORGANIZER;CN="Friends of Jesus":MAILTO:info@friends-of-jesus.de
END:VEVENT
END:VCALENDAR