BEGIN:VCALENDAR
VERSION:2.0
PRODID:-//Friends of Jesus e.V. - ECPv6.15.20//NONSGML v1.0//EN
CALSCALE:GREGORIAN
METHOD:PUBLISH
X-WR-CALNAME:Friends of Jesus e.V.
X-ORIGINAL-URL:https://friends-of-jesus.de
X-WR-CALDESC:Veranstaltungen für Friends of Jesus e.V.
REFRESH-INTERVAL;VALUE=DURATION:PT1H
X-Robots-Tag:noindex
X-PUBLISHED-TTL:PT1H
BEGIN:VTIMEZONE
TZID:Europe/Berlin
BEGIN:DAYLIGHT
TZOFFSETFROM:+0100
TZOFFSETTO:+0200
TZNAME:CEST
DTSTART:20280326T010000
END:DAYLIGHT
BEGIN:STANDARD
TZOFFSETFROM:+0200
TZOFFSETTO:+0100
TZNAME:CET
DTSTART:20281029T010000
END:STANDARD
BEGIN:DAYLIGHT
TZOFFSETFROM:+0100
TZOFFSETTO:+0200
TZNAME:CEST
DTSTART:20290325T010000
END:DAYLIGHT
BEGIN:STANDARD
TZOFFSETFROM:+0200
TZOFFSETTO:+0100
TZNAME:CET
DTSTART:20291028T010000
END:STANDARD
BEGIN:DAYLIGHT
TZOFFSETFROM:+0100
TZOFFSETTO:+0200
TZNAME:CEST
DTSTART:20300331T010000
END:DAYLIGHT
BEGIN:STANDARD
TZOFFSETFROM:+0200
TZOFFSETTO:+0100
TZNAME:CET
DTSTART:20301027T010000
END:STANDARD
END:VTIMEZONE
BEGIN:VEVENT
DTSTART;TZID=Europe/Berlin:20291226T160000
DTEND;TZID=Europe/Berlin:20291226T173000
DTSTAMP:20260425T180543
CREATED:20241125T202455Z
LAST-MODIFIED:20251124T165104Z
UID:10002230-1892995200-1893000600@friends-of-jesus.de
SUMMARY:Weihnachts-Gottesdienst
DESCRIPTION:Herzliche Einladung zu unserem Weihnachts-Gottesdienst an Heiligabend \n24. Dez. 2025 | 16.00 – ca. 17.30 Uhr\nFriends of Jesus-Halle\, Im Hähnchen 8\, 57610 Altenkirchen
URL:https://friends-of-jesus.de/event/heiligabend-gottesdienst-2/2029-12-26/
LOCATION:FOJ-Halle\, Im Hähnchen 8\, Altenkirchen\, RLP\, 57610\, Deutschland
CATEGORIES:Featured,Gottesdienst
ATTACH;FMTTYPE=image/png:https://friends-of-jesus.de/wp-content/uploads/2024/11/2025.12-Heiligabend-1.png
ORGANIZER;CN="Friends of Jesus":MAILTO:info@friends-of-jesus.de
END:VEVENT
END:VCALENDAR