BEGIN:VCALENDAR
VERSION:2.0
PRODID:-//Friends of Jesus e.V. - ECPv6.15.20//NONSGML v1.0//EN
CALSCALE:GREGORIAN
METHOD:PUBLISH
X-WR-CALNAME:Friends of Jesus e.V.
X-ORIGINAL-URL:https://friends-of-jesus.de
X-WR-CALDESC:Veranstaltungen für Friends of Jesus e.V.
REFRESH-INTERVAL;VALUE=DURATION:PT1H
X-Robots-Tag:noindex
X-PUBLISHED-TTL:PT1H
BEGIN:VTIMEZONE
TZID:Europe/Berlin
BEGIN:DAYLIGHT
TZOFFSETFROM:+0100
TZOFFSETTO:+0200
TZNAME:CEST
DTSTART:20240331T010000
END:DAYLIGHT
BEGIN:STANDARD
TZOFFSETFROM:+0200
TZOFFSETTO:+0100
TZNAME:CET
DTSTART:20241027T010000
END:STANDARD
BEGIN:DAYLIGHT
TZOFFSETFROM:+0100
TZOFFSETTO:+0200
TZNAME:CEST
DTSTART:20250330T010000
END:DAYLIGHT
BEGIN:STANDARD
TZOFFSETFROM:+0200
TZOFFSETTO:+0100
TZNAME:CET
DTSTART:20251026T010000
END:STANDARD
BEGIN:DAYLIGHT
TZOFFSETFROM:+0100
TZOFFSETTO:+0200
TZNAME:CEST
DTSTART:20260329T010000
END:DAYLIGHT
BEGIN:STANDARD
TZOFFSETFROM:+0200
TZOFFSETTO:+0100
TZNAME:CET
DTSTART:20261025T010000
END:STANDARD
END:VTIMEZONE
BEGIN:VEVENT
DTSTART;TZID=Europe/Berlin:20250621T100000
DTEND;TZID=Europe/Berlin:20250621T213000
DTSTAMP:20260421T042218
CREATED:20250502T113138Z
LAST-MODIFIED:20250509T193143Z
UID:10002201-1750500000-1750541400@friends-of-jesus.de
SUMMARY:Heilung & Befreiung - Gebet & Training mit Special guest Michael Miller
DESCRIPTION:Heilung & Befreiung – biblisch fundiert\, gesund und praktisch\nEin Trainingstag für alle\, die sich nach einer tieferen Grundlage\, Klarheit und praktischer Anwendung der biblischen Lehre über Heilung und Befreiung sehnen und selbst Gebet empfangen möchten. Es wird Lehre\, Austausch\, persönliche Gebetszeit und Gelegenheit zur praktischen Umsetzung geben.\n \n  \nVeranstaltungszeiten:\n1. Session 10:00 Uhr | 2. Session 14:30 Uhr | 3. Session 19:00 Uhr + Gottesdienst am 22.06.2025\, 10:30 Uhr \nDa die Veranstaltungen am Samstag aufeinander aufbauen\, bitten wir euch\, nach Möglichkeit an allen Sessions teilzunehmen. \n——————————- \nMichael Miller ist Co-Host des YouTube-Kanals The Remnant Radio\, wo er in internationaler Reichweite theologische Tiefen und geistliche Gaben zusammen bringt. Besonders in einer Zeit\, in der weltweit vieles in Kirchen erschüttert wird\, empfinden wir seine Stimme als hilfreich\, mutig und gesund. \nEr leitet Thomas Ministries\, dient als Ältester und Lehrpastor in der Gemeinde Reclamation Church in Denver\, Colorado\, und bringt langjährige Erfahrung aus Diensten wie Young Life und Wellspring Church mit\, wo er eng mit Jack Deere zusammen arbeitete. \nMichael steht für eine theologisch fundierte\, ehrliche und dennoch geisterfüllte Perspektive. Er liebt es\, Menschen mit Klarheit\, Barmherzigkeit und Hoffnung in die Freiheit zu führen. \n——————————- \nAnmeldung & Rückfragen\n– Für das Tagesseminar mit Michael Miller melde dich bitte formlos per E-Mail bei uns.\n– Bei Fragen kannst du uns ebenfalls gerne eine E-Mail schreiben.
URL:https://friends-of-jesus.de/event/gebet-training-mit-special-guest-michael-miller/
LOCATION:FOJ-Halle\, Im Hähnchen 8\, Altenkirchen\, RLP\, 57610\, Deutschland
CATEGORIES:Featured
ATTACH;FMTTYPE=image/png:https://friends-of-jesus.de/wp-content/uploads/2025/05/2025.06-Seminar-Michael-Miller.png
ORGANIZER;CN="Friends of Jesus":MAILTO:info@friends-of-jesus.de
END:VEVENT
BEGIN:VEVENT
DTSTART;TZID=Europe/Berlin:20250622T103000
DTEND;TZID=Europe/Berlin:20250622T120000
DTSTAMP:20260421T042218
CREATED:20250502T112343Z
LAST-MODIFIED:20250510T092241Z
UID:10002070-1750588200-1750593600@friends-of-jesus.de
SUMMARY:Gottesdienst mit Michael Miller
DESCRIPTION:Michael Miller ist Co-Host des YouTube-Kanals The Remnant Radio\, wo er in internationaler Reichweite theologische Tiefen und geistliche Gaben zusammen bringt. Besonders in einer Zeit\, in der weltweit vieles in Kirchen erschüttert wird\, empfinden wir seine Stimme als hilfreich\, mutig und gesund. \nEr leitet Thomas Ministries\, dient als Ältester und Lehrpastor in der Gemeinde Reclamation Church in Denver\, Colorado\, und bringt langjährige Erfahrung aus Diensten wie Young Life und Wellspring Church mit\, wo er eng mit Jack Deere zusammen arbeitete. \nMichael steht für eine theologisch fundierte\, ehrliche und dennoch geisterfüllte Perspektive. Er liebt es\, Menschen mit Klarheit\, Barmherzigkeit und Hoffnung in die Freiheit zu führen.
URL:https://friends-of-jesus.de/event/gottesdienst-5/
LOCATION:FOJ-Halle\, Im Hähnchen 8\, Altenkirchen\, RLP\, 57610\, Deutschland
CATEGORIES:Featured,Gottesdienst
ATTACH;FMTTYPE=image/png:https://friends-of-jesus.de/wp-content/uploads/2025/05/2025.06-Gottesdienst-Michael-Miller-1.png
ORGANIZER;CN="Friends of Jesus":MAILTO:info@friends-of-jesus.de
END:VEVENT
BEGIN:VEVENT
DTSTART;TZID=Europe/Berlin:20250627T180000
DTEND;TZID=Europe/Berlin:20250627T233000
DTSTAMP:20260421T042218
CREATED:20250623T144714Z
LAST-MODIFIED:20250623T152541Z
UID:10002205-1751047200-1751067000@friends-of-jesus.de
SUMMARY:Toskanische Nacht
DESCRIPTION:Der Aktionskreis Altenkirchen lädt ein zur toskanischen Nacht! Am 27. Juni 2025 ist es wieder soweit\, dann begeistert Altenkirchen mit tollem Ambiente\, musikalischer Untermalung und außergewöhnlichen Ständen mit toskanischem Flair zum Einklang auf die Sommerferien. \nWir sind auch mit dabei mit \n\nleckeren Kaffeespezialitäten\nSpiel & Spaß für Kids\nkleinem Flohmarkt\nund mehr\n\nWir freuen uns\, euch an diesem besonderen Abend in Altenkirchen zu treffen!
URL:https://friends-of-jesus.de/event/toskanische-nacht/
LOCATION:Fußgängerzone Alktenkirchen\, Wilhelmstraße\, Altenkirchen\, 57610
CATEGORIES:Featured
ORGANIZER;CN="Friends of Jesus":MAILTO:info@friends-of-jesus.de
END:VEVENT
END:VCALENDAR