BEGIN:VCALENDAR
VERSION:2.0
PRODID:-//Friends of Jesus e.V. - ECPv6.15.20//NONSGML v1.0//EN
CALSCALE:GREGORIAN
METHOD:PUBLISH
X-WR-CALNAME:Friends of Jesus e.V.
X-ORIGINAL-URL:https://friends-of-jesus.de
X-WR-CALDESC:Veranstaltungen für Friends of Jesus e.V.
REFRESH-INTERVAL;VALUE=DURATION:PT1H
X-Robots-Tag:noindex
X-PUBLISHED-TTL:PT1H
BEGIN:VTIMEZONE
TZID:Europe/Berlin
BEGIN:DAYLIGHT
TZOFFSETFROM:+0100
TZOFFSETTO:+0200
TZNAME:CEST
DTSTART:20240331T010000
END:DAYLIGHT
BEGIN:STANDARD
TZOFFSETFROM:+0200
TZOFFSETTO:+0100
TZNAME:CET
DTSTART:20241027T010000
END:STANDARD
BEGIN:DAYLIGHT
TZOFFSETFROM:+0100
TZOFFSETTO:+0200
TZNAME:CEST
DTSTART:20250330T010000
END:DAYLIGHT
BEGIN:STANDARD
TZOFFSETFROM:+0200
TZOFFSETTO:+0100
TZNAME:CET
DTSTART:20251026T010000
END:STANDARD
BEGIN:DAYLIGHT
TZOFFSETFROM:+0100
TZOFFSETTO:+0200
TZNAME:CEST
DTSTART:20260329T010000
END:DAYLIGHT
BEGIN:STANDARD
TZOFFSETFROM:+0200
TZOFFSETTO:+0100
TZNAME:CET
DTSTART:20261025T010000
END:STANDARD
BEGIN:DAYLIGHT
TZOFFSETFROM:+0100
TZOFFSETTO:+0200
TZNAME:CEST
DTSTART:20270328T010000
END:DAYLIGHT
BEGIN:STANDARD
TZOFFSETFROM:+0200
TZOFFSETTO:+0100
TZNAME:CET
DTSTART:20271031T010000
END:STANDARD
END:VTIMEZONE
BEGIN:VEVENT
DTSTART;TZID=Europe/Berlin:20260412T103000
DTEND;TZID=Europe/Berlin:20260412T120000
DTSTAMP:20260420T145951
CREATED:20251027T135022Z
LAST-MODIFIED:20251031T105445Z
UID:10002091-1775989800-1775995200@friends-of-jesus.de
SUMMARY:Gottesdienst
DESCRIPTION:Was dich erwartet?\nAnbetung\, Botschaft\, Kindergottesdienste und Gemeinschaft… \nWir freuen uns auf dich!
URL:https://friends-of-jesus.de/event/gottesdienst-2-2-2-2-2/2026-04-12/
LOCATION:FOJ-Halle\, Im Hähnchen 8\, Altenkirchen\, RLP\, 57610\, Deutschland
CATEGORIES:Gottesdienst
ATTACH;FMTTYPE=image/png:https://friends-of-jesus.de/wp-content/uploads/2023/09/GoDi.png
ORGANIZER;CN="Friends of Jesus":MAILTO:info@friends-of-jesus.de
END:VEVENT
BEGIN:VEVENT
DTSTART;TZID=Europe/Berlin:20260329T103000
DTEND;TZID=Europe/Berlin:20260329T120000
DTSTAMP:20260420T145951
CREATED:20251027T135022Z
LAST-MODIFIED:20251031T105445Z
UID:10002090-1774780200-1774785600@friends-of-jesus.de
SUMMARY:Gottesdienst
DESCRIPTION:Was dich erwartet?\nAnbetung\, Botschaft\, Kindergottesdienste und Gemeinschaft… \nWir freuen uns auf dich!
URL:https://friends-of-jesus.de/event/gottesdienst-2-2-2-2-2/2026-03-29/
LOCATION:FOJ-Halle\, Im Hähnchen 8\, Altenkirchen\, RLP\, 57610\, Deutschland
CATEGORIES:Gottesdienst
ATTACH;FMTTYPE=image/png:https://friends-of-jesus.de/wp-content/uploads/2023/09/GoDi.png
ORGANIZER;CN="Friends of Jesus":MAILTO:info@friends-of-jesus.de
END:VEVENT
BEGIN:VEVENT
DTSTART;TZID=Europe/Berlin:20260315T103000
DTEND;TZID=Europe/Berlin:20260315T120000
DTSTAMP:20260420T145951
CREATED:20251027T135022Z
LAST-MODIFIED:20251031T105445Z
UID:10002089-1773570600-1773576000@friends-of-jesus.de
SUMMARY:Gottesdienst
DESCRIPTION:Was dich erwartet?\nAnbetung\, Botschaft\, Kindergottesdienste und Gemeinschaft… \nWir freuen uns auf dich!
URL:https://friends-of-jesus.de/event/gottesdienst-2-2-2-2-2/2026-03-15/
LOCATION:FOJ-Halle\, Im Hähnchen 8\, Altenkirchen\, RLP\, 57610\, Deutschland
CATEGORIES:Gottesdienst
ATTACH;FMTTYPE=image/png:https://friends-of-jesus.de/wp-content/uploads/2023/09/GoDi.png
ORGANIZER;CN="Friends of Jesus":MAILTO:info@friends-of-jesus.de
END:VEVENT
BEGIN:VEVENT
DTSTART;TZID=Europe/Berlin:20260301T103000
DTEND;TZID=Europe/Berlin:20260301T120000
DTSTAMP:20260420T145951
CREATED:20251027T135022Z
LAST-MODIFIED:20251031T105445Z
UID:10002088-1772361000-1772366400@friends-of-jesus.de
SUMMARY:Gottesdienst
DESCRIPTION:Was dich erwartet?\nAnbetung\, Botschaft\, Kindergottesdienste und Gemeinschaft… \nWir freuen uns auf dich!
URL:https://friends-of-jesus.de/event/gottesdienst-2-2-2-2-2/2026-03-01/
LOCATION:FOJ-Halle\, Im Hähnchen 8\, Altenkirchen\, RLP\, 57610\, Deutschland
CATEGORIES:Gottesdienst
ATTACH;FMTTYPE=image/png:https://friends-of-jesus.de/wp-content/uploads/2023/09/GoDi.png
ORGANIZER;CN="Friends of Jesus":MAILTO:info@friends-of-jesus.de
END:VEVENT
BEGIN:VEVENT
DTSTART;TZID=Europe/Berlin:20260215T103000
DTEND;TZID=Europe/Berlin:20260215T120000
DTSTAMP:20260420T145951
CREATED:20251027T135022Z
LAST-MODIFIED:20251031T105445Z
UID:10002087-1771151400-1771156800@friends-of-jesus.de
SUMMARY:Gottesdienst
DESCRIPTION:Was dich erwartet?\nAnbetung\, Botschaft\, Kindergottesdienste und Gemeinschaft… \nWir freuen uns auf dich!
URL:https://friends-of-jesus.de/event/gottesdienst-2-2-2-2-2/2026-02-15/
LOCATION:FOJ-Halle\, Im Hähnchen 8\, Altenkirchen\, RLP\, 57610\, Deutschland
CATEGORIES:Gottesdienst
ATTACH;FMTTYPE=image/png:https://friends-of-jesus.de/wp-content/uploads/2023/09/GoDi.png
ORGANIZER;CN="Friends of Jesus":MAILTO:info@friends-of-jesus.de
END:VEVENT
BEGIN:VEVENT
DTSTART;TZID=Europe/Berlin:20260201T103000
DTEND;TZID=Europe/Berlin:20260201T120000
DTSTAMP:20260420T145951
CREATED:20251027T135022Z
LAST-MODIFIED:20251031T105445Z
UID:10002086-1769941800-1769947200@friends-of-jesus.de
SUMMARY:Gottesdienst
DESCRIPTION:Was dich erwartet?\nAnbetung\, Botschaft\, Kindergottesdienste und Gemeinschaft… \nWir freuen uns auf dich!
URL:https://friends-of-jesus.de/event/gottesdienst-2-2-2-2-2/2026-02-01/
LOCATION:FOJ-Halle\, Im Hähnchen 8\, Altenkirchen\, RLP\, 57610\, Deutschland
CATEGORIES:Gottesdienst
ATTACH;FMTTYPE=image/png:https://friends-of-jesus.de/wp-content/uploads/2023/09/GoDi.png
ORGANIZER;CN="Friends of Jesus":MAILTO:info@friends-of-jesus.de
END:VEVENT
BEGIN:VEVENT
DTSTART;TZID=Europe/Berlin:20260118T103000
DTEND;TZID=Europe/Berlin:20260118T120000
DTSTAMP:20260420T145951
CREATED:20251027T135022Z
LAST-MODIFIED:20251031T105445Z
UID:10002085-1768732200-1768737600@friends-of-jesus.de
SUMMARY:Gottesdienst
DESCRIPTION:Was dich erwartet?\nAnbetung\, Botschaft\, Kindergottesdienste und Gemeinschaft… \nWir freuen uns auf dich!
URL:https://friends-of-jesus.de/event/gottesdienst-2-2-2-2-2/2026-01-18/
LOCATION:FOJ-Halle\, Im Hähnchen 8\, Altenkirchen\, RLP\, 57610\, Deutschland
CATEGORIES:Gottesdienst
ATTACH;FMTTYPE=image/png:https://friends-of-jesus.de/wp-content/uploads/2023/09/GoDi.png
ORGANIZER;CN="Friends of Jesus":MAILTO:info@friends-of-jesus.de
END:VEVENT
BEGIN:VEVENT
DTSTART;TZID=Europe/Berlin:20260104T103000
DTEND;TZID=Europe/Berlin:20260104T120000
DTSTAMP:20260420T145951
CREATED:20251027T135022Z
LAST-MODIFIED:20251031T105445Z
UID:10002084-1767522600-1767528000@friends-of-jesus.de
SUMMARY:Gottesdienst
DESCRIPTION:Was dich erwartet?\nAnbetung\, Botschaft\, Kindergottesdienste und Gemeinschaft… \nWir freuen uns auf dich!
URL:https://friends-of-jesus.de/event/gottesdienst-2-2-2-2-2/2026-01-04/
LOCATION:FOJ-Halle\, Im Hähnchen 8\, Altenkirchen\, RLP\, 57610\, Deutschland
CATEGORIES:Gottesdienst
ATTACH;FMTTYPE=image/png:https://friends-of-jesus.de/wp-content/uploads/2023/09/GoDi.png
ORGANIZER;CN="Friends of Jesus":MAILTO:info@friends-of-jesus.de
END:VEVENT
BEGIN:VEVENT
DTSTART;TZID=Europe/Berlin:20251221T103000
DTEND;TZID=Europe/Berlin:20251221T120000
DTSTAMP:20260420T145951
CREATED:20251027T135022Z
LAST-MODIFIED:20251031T105445Z
UID:10002083-1766313000-1766318400@friends-of-jesus.de
SUMMARY:Gottesdienst
DESCRIPTION:Was dich erwartet?\nAnbetung\, Botschaft\, Kindergottesdienste und Gemeinschaft… \nWir freuen uns auf dich!
URL:https://friends-of-jesus.de/event/gottesdienst-2-2-2-2-2/2025-12-21/
LOCATION:FOJ-Halle\, Im Hähnchen 8\, Altenkirchen\, RLP\, 57610\, Deutschland
CATEGORIES:Gottesdienst
ATTACH;FMTTYPE=image/png:https://friends-of-jesus.de/wp-content/uploads/2023/09/GoDi.png
ORGANIZER;CN="Friends of Jesus":MAILTO:info@friends-of-jesus.de
END:VEVENT
BEGIN:VEVENT
DTSTART;TZID=Europe/Berlin:20251207T103000
DTEND;TZID=Europe/Berlin:20251207T120000
DTSTAMP:20260420T145951
CREATED:20251027T135022Z
LAST-MODIFIED:20251031T105445Z
UID:10002082-1765103400-1765108800@friends-of-jesus.de
SUMMARY:Gottesdienst
DESCRIPTION:Was dich erwartet?\nAnbetung\, Botschaft\, Kindergottesdienste und Gemeinschaft… \nWir freuen uns auf dich!
URL:https://friends-of-jesus.de/event/gottesdienst-2-2-2-2-2/2025-12-07/
LOCATION:FOJ-Halle\, Im Hähnchen 8\, Altenkirchen\, RLP\, 57610\, Deutschland
CATEGORIES:Gottesdienst
ATTACH;FMTTYPE=image/png:https://friends-of-jesus.de/wp-content/uploads/2023/09/GoDi.png
ORGANIZER;CN="Friends of Jesus":MAILTO:info@friends-of-jesus.de
END:VEVENT
BEGIN:VEVENT
DTSTART;TZID=Europe/Berlin:20251123T103000
DTEND;TZID=Europe/Berlin:20251123T120000
DTSTAMP:20260420T145951
CREATED:20251027T135022Z
LAST-MODIFIED:20251031T105445Z
UID:10002231-1763893800-1763899200@friends-of-jesus.de
SUMMARY:Gottesdienst
DESCRIPTION:Was dich erwartet?\nAnbetung\, Botschaft\, Kindergottesdienste und Gemeinschaft… \nWir freuen uns auf dich!
URL:https://friends-of-jesus.de/event/gottesdienst-2-2-2-2-2/2025-11-23/
LOCATION:FOJ-Halle\, Im Hähnchen 8\, Altenkirchen\, RLP\, 57610\, Deutschland
CATEGORIES:Gottesdienst
ATTACH;FMTTYPE=image/png:https://friends-of-jesus.de/wp-content/uploads/2023/09/GoDi.png
ORGANIZER;CN="Friends of Jesus":MAILTO:info@friends-of-jesus.de
END:VEVENT
BEGIN:VEVENT
DTSTART;TZID=Europe/Berlin:20251026T103000
DTEND;TZID=Europe/Berlin:20251026T120000
DTSTAMP:20260420T145951
CREATED:20250306T184555Z
LAST-MODIFIED:20251023T112722Z
UID:10002079-1761474600-1761480000@friends-of-jesus.de
SUMMARY:Gottesdienst
DESCRIPTION:Was dich erwartet?\nAnbetung\, Botschaft\, Kindergottesdienste und Gemeinschaft… \nWir freuen uns auf dich!
URL:https://friends-of-jesus.de/event/gottesdienst-2-2-2-2/2025-10-26/
LOCATION:FOJ-Halle\, Im Hähnchen 8\, Altenkirchen\, RLP\, 57610\, Deutschland
CATEGORIES:Gottesdienst
ATTACH;FMTTYPE=image/png:https://friends-of-jesus.de/wp-content/uploads/2023/09/GoDi.png
ORGANIZER;CN="Friends of Jesus":MAILTO:info@friends-of-jesus.de
END:VEVENT
BEGIN:VEVENT
DTSTART;TZID=Europe/Berlin:20251012T103000
DTEND;TZID=Europe/Berlin:20251012T120000
DTSTAMP:20260420T145951
CREATED:20250306T184555Z
LAST-MODIFIED:20251023T112722Z
UID:10002078-1760265000-1760270400@friends-of-jesus.de
SUMMARY:Gottesdienst
DESCRIPTION:Was dich erwartet?\nAnbetung\, Botschaft\, Kindergottesdienste und Gemeinschaft… \nWir freuen uns auf dich!
URL:https://friends-of-jesus.de/event/gottesdienst-2-2-2-2/2025-10-12/
LOCATION:FOJ-Halle\, Im Hähnchen 8\, Altenkirchen\, RLP\, 57610\, Deutschland
CATEGORIES:Gottesdienst
ATTACH;FMTTYPE=image/png:https://friends-of-jesus.de/wp-content/uploads/2023/09/GoDi.png
ORGANIZER;CN="Friends of Jesus":MAILTO:info@friends-of-jesus.de
END:VEVENT
BEGIN:VEVENT
DTSTART;TZID=Europe/Berlin:20250928T103000
DTEND;TZID=Europe/Berlin:20250928T120000
DTSTAMP:20260420T145951
CREATED:20250306T184555Z
LAST-MODIFIED:20251023T112722Z
UID:10002077-1759055400-1759060800@friends-of-jesus.de
SUMMARY:Gottesdienst
DESCRIPTION:Was dich erwartet?\nAnbetung\, Botschaft\, Kindergottesdienste und Gemeinschaft… \nWir freuen uns auf dich!
URL:https://friends-of-jesus.de/event/gottesdienst-2-2-2-2/2025-09-28/
LOCATION:FOJ-Halle\, Im Hähnchen 8\, Altenkirchen\, RLP\, 57610\, Deutschland
CATEGORIES:Gottesdienst
ATTACH;FMTTYPE=image/png:https://friends-of-jesus.de/wp-content/uploads/2023/09/GoDi.png
ORGANIZER;CN="Friends of Jesus":MAILTO:info@friends-of-jesus.de
END:VEVENT
BEGIN:VEVENT
DTSTART;TZID=Europe/Berlin:20250914T103000
DTEND;TZID=Europe/Berlin:20250914T120000
DTSTAMP:20260420T145951
CREATED:20250306T184555Z
LAST-MODIFIED:20251023T112722Z
UID:10002076-1757845800-1757851200@friends-of-jesus.de
SUMMARY:Gottesdienst
DESCRIPTION:Was dich erwartet?\nAnbetung\, Botschaft\, Kindergottesdienste und Gemeinschaft… \nWir freuen uns auf dich!
URL:https://friends-of-jesus.de/event/gottesdienst-2-2-2-2/2025-09-14/
LOCATION:FOJ-Halle\, Im Hähnchen 8\, Altenkirchen\, RLP\, 57610\, Deutschland
CATEGORIES:Gottesdienst
ATTACH;FMTTYPE=image/png:https://friends-of-jesus.de/wp-content/uploads/2023/09/GoDi.png
ORGANIZER;CN="Friends of Jesus":MAILTO:info@friends-of-jesus.de
END:VEVENT
BEGIN:VEVENT
DTSTART;TZID=Europe/Berlin:20250831T103000
DTEND;TZID=Europe/Berlin:20250831T120000
DTSTAMP:20260420T145951
CREATED:20250306T184555Z
LAST-MODIFIED:20251023T112722Z
UID:10002075-1756636200-1756641600@friends-of-jesus.de
SUMMARY:Gottesdienst
DESCRIPTION:Was dich erwartet?\nAnbetung\, Botschaft\, Kindergottesdienste und Gemeinschaft… \nWir freuen uns auf dich!
URL:https://friends-of-jesus.de/event/gottesdienst-2-2-2-2/2025-08-31/
LOCATION:FOJ-Halle\, Im Hähnchen 8\, Altenkirchen\, RLP\, 57610\, Deutschland
CATEGORIES:Gottesdienst
ATTACH;FMTTYPE=image/png:https://friends-of-jesus.de/wp-content/uploads/2023/09/GoDi.png
ORGANIZER;CN="Friends of Jesus":MAILTO:info@friends-of-jesus.de
END:VEVENT
BEGIN:VEVENT
DTSTART;TZID=Europe/Berlin:20250817T103000
DTEND;TZID=Europe/Berlin:20250817T120000
DTSTAMP:20260420T145951
CREATED:20250306T184555Z
LAST-MODIFIED:20251023T112722Z
UID:10002074-1755426600-1755432000@friends-of-jesus.de
SUMMARY:Gottesdienst
DESCRIPTION:Was dich erwartet?\nAnbetung\, Botschaft\, Kindergottesdienste und Gemeinschaft… \nWir freuen uns auf dich!
URL:https://friends-of-jesus.de/event/gottesdienst-2-2-2-2/2025-08-17/
LOCATION:FOJ-Halle\, Im Hähnchen 8\, Altenkirchen\, RLP\, 57610\, Deutschland
CATEGORIES:Gottesdienst
ATTACH;FMTTYPE=image/png:https://friends-of-jesus.de/wp-content/uploads/2023/09/GoDi.png
ORGANIZER;CN="Friends of Jesus":MAILTO:info@friends-of-jesus.de
END:VEVENT
BEGIN:VEVENT
DTSTART;TZID=Europe/Berlin:20250803T103000
DTEND;TZID=Europe/Berlin:20250803T120000
DTSTAMP:20260420T145951
CREATED:20250306T184555Z
LAST-MODIFIED:20251023T112722Z
UID:10002073-1754217000-1754222400@friends-of-jesus.de
SUMMARY:Gottesdienst
DESCRIPTION:Was dich erwartet?\nAnbetung\, Botschaft\, Kindergottesdienste und Gemeinschaft… \nWir freuen uns auf dich!
URL:https://friends-of-jesus.de/event/gottesdienst-2-2-2-2/2025-08-03/
LOCATION:FOJ-Halle\, Im Hähnchen 8\, Altenkirchen\, RLP\, 57610\, Deutschland
CATEGORIES:Gottesdienst
ATTACH;FMTTYPE=image/png:https://friends-of-jesus.de/wp-content/uploads/2023/09/GoDi.png
ORGANIZER;CN="Friends of Jesus":MAILTO:info@friends-of-jesus.de
END:VEVENT
BEGIN:VEVENT
DTSTART;TZID=Europe/Berlin:20250720T103000
DTEND;TZID=Europe/Berlin:20250720T120000
DTSTAMP:20260420T145951
CREATED:20250306T184555Z
LAST-MODIFIED:20251023T112722Z
UID:10002072-1753007400-1753012800@friends-of-jesus.de
SUMMARY:Gottesdienst
DESCRIPTION:Was dich erwartet?\nAnbetung\, Botschaft\, Kindergottesdienste und Gemeinschaft… \nWir freuen uns auf dich!
URL:https://friends-of-jesus.de/event/gottesdienst-2-2-2-2/2025-07-20/
LOCATION:FOJ-Halle\, Im Hähnchen 8\, Altenkirchen\, RLP\, 57610\, Deutschland
CATEGORIES:Gottesdienst
ATTACH;FMTTYPE=image/png:https://friends-of-jesus.de/wp-content/uploads/2023/09/GoDi.png
ORGANIZER;CN="Friends of Jesus":MAILTO:info@friends-of-jesus.de
END:VEVENT
BEGIN:VEVENT
DTSTART;TZID=Europe/Berlin:20250706T103000
DTEND;TZID=Europe/Berlin:20250706T120000
DTSTAMP:20260420T145951
CREATED:20250306T184555Z
LAST-MODIFIED:20251023T112722Z
UID:10002071-1751797800-1751803200@friends-of-jesus.de
SUMMARY:Gottesdienst
DESCRIPTION:Was dich erwartet?\nAnbetung\, Botschaft\, Kindergottesdienste und Gemeinschaft… \nWir freuen uns auf dich!
URL:https://friends-of-jesus.de/event/gottesdienst-2-2-2-2/2025-07-06/
LOCATION:FOJ-Halle\, Im Hähnchen 8\, Altenkirchen\, RLP\, 57610\, Deutschland
CATEGORIES:Gottesdienst
ATTACH;FMTTYPE=image/png:https://friends-of-jesus.de/wp-content/uploads/2023/09/GoDi.png
ORGANIZER;CN="Friends of Jesus":MAILTO:info@friends-of-jesus.de
END:VEVENT
BEGIN:VEVENT
DTSTART;TZID=Europe/Berlin:20250622T103000
DTEND;TZID=Europe/Berlin:20250622T120000
DTSTAMP:20260420T145951
CREATED:20250502T112343Z
LAST-MODIFIED:20250510T092241Z
UID:10002070-1750588200-1750593600@friends-of-jesus.de
SUMMARY:Gottesdienst mit Michael Miller
DESCRIPTION:Michael Miller ist Co-Host des YouTube-Kanals The Remnant Radio\, wo er in internationaler Reichweite theologische Tiefen und geistliche Gaben zusammen bringt. Besonders in einer Zeit\, in der weltweit vieles in Kirchen erschüttert wird\, empfinden wir seine Stimme als hilfreich\, mutig und gesund. \nEr leitet Thomas Ministries\, dient als Ältester und Lehrpastor in der Gemeinde Reclamation Church in Denver\, Colorado\, und bringt langjährige Erfahrung aus Diensten wie Young Life und Wellspring Church mit\, wo er eng mit Jack Deere zusammen arbeitete. \nMichael steht für eine theologisch fundierte\, ehrliche und dennoch geisterfüllte Perspektive. Er liebt es\, Menschen mit Klarheit\, Barmherzigkeit und Hoffnung in die Freiheit zu führen.
URL:https://friends-of-jesus.de/event/gottesdienst-5/
LOCATION:FOJ-Halle\, Im Hähnchen 8\, Altenkirchen\, RLP\, 57610\, Deutschland
CATEGORIES:Featured,Gottesdienst
ATTACH;FMTTYPE=image/png:https://friends-of-jesus.de/wp-content/uploads/2025/05/2025.06-Gottesdienst-Michael-Miller-1.png
ORGANIZER;CN="Friends of Jesus":MAILTO:info@friends-of-jesus.de
END:VEVENT
BEGIN:VEVENT
DTSTART;TZID=Europe/Berlin:20250525T103000
DTEND;TZID=Europe/Berlin:20250525T120000
DTSTAMP:20260420T145951
CREATED:20250306T184555Z
LAST-MODIFIED:20251023T112722Z
UID:10002068-1748169000-1748174400@friends-of-jesus.de
SUMMARY:Gottesdienst
DESCRIPTION:Was dich erwartet?\nAnbetung\, Botschaft\, Kindergottesdienste und Gemeinschaft… \nWir freuen uns auf dich!
URL:https://friends-of-jesus.de/event/gottesdienst-2-2-2-2/2025-05-25/
LOCATION:FOJ-Halle\, Im Hähnchen 8\, Altenkirchen\, RLP\, 57610\, Deutschland
CATEGORIES:Gottesdienst
ATTACH;FMTTYPE=image/png:https://friends-of-jesus.de/wp-content/uploads/2023/09/GoDi.png
ORGANIZER;CN="Friends of Jesus":MAILTO:info@friends-of-jesus.de
END:VEVENT
BEGIN:VEVENT
DTSTART;TZID=Europe/Berlin:20250427T103000
DTEND;TZID=Europe/Berlin:20250427T120000
DTSTAMP:20260420T145951
CREATED:20250306T184555Z
LAST-MODIFIED:20251023T112722Z
UID:10002066-1745749800-1745755200@friends-of-jesus.de
SUMMARY:Gottesdienst
DESCRIPTION:Was dich erwartet?\nAnbetung\, Botschaft\, Kindergottesdienste und Gemeinschaft… \nWir freuen uns auf dich!
URL:https://friends-of-jesus.de/event/gottesdienst-2-2-2-2/2025-04-27/
LOCATION:FOJ-Halle\, Im Hähnchen 8\, Altenkirchen\, RLP\, 57610\, Deutschland
CATEGORIES:Gottesdienst
ATTACH;FMTTYPE=image/png:https://friends-of-jesus.de/wp-content/uploads/2023/09/GoDi.png
ORGANIZER;CN="Friends of Jesus":MAILTO:info@friends-of-jesus.de
END:VEVENT
BEGIN:VEVENT
DTSTART;TZID=Europe/Berlin:20250413T103000
DTEND;TZID=Europe/Berlin:20250413T120000
DTSTAMP:20260420T145951
CREATED:20250306T184555Z
LAST-MODIFIED:20251023T112722Z
UID:10002065-1744540200-1744545600@friends-of-jesus.de
SUMMARY:Gottesdienst
DESCRIPTION:Was dich erwartet?\nAnbetung\, Botschaft\, Kindergottesdienste und Gemeinschaft… \nWir freuen uns auf dich!
URL:https://friends-of-jesus.de/event/gottesdienst-2-2-2-2/2025-04-13/
LOCATION:FOJ-Halle\, Im Hähnchen 8\, Altenkirchen\, RLP\, 57610\, Deutschland
CATEGORIES:Gottesdienst
ATTACH;FMTTYPE=image/png:https://friends-of-jesus.de/wp-content/uploads/2023/09/GoDi.png
ORGANIZER;CN="Friends of Jesus":MAILTO:info@friends-of-jesus.de
END:VEVENT
BEGIN:VEVENT
DTSTART;TZID=Europe/Berlin:20250330T103000
DTEND;TZID=Europe/Berlin:20250330T120000
DTSTAMP:20260420T145951
CREATED:20250306T184555Z
LAST-MODIFIED:20251023T112722Z
UID:10002064-1743330600-1743336000@friends-of-jesus.de
SUMMARY:Gottesdienst
DESCRIPTION:Was dich erwartet?\nAnbetung\, Botschaft\, Kindergottesdienste und Gemeinschaft… \nWir freuen uns auf dich!
URL:https://friends-of-jesus.de/event/gottesdienst-2-2-2-2/2025-03-30/
LOCATION:FOJ-Halle\, Im Hähnchen 8\, Altenkirchen\, RLP\, 57610\, Deutschland
CATEGORIES:Gottesdienst
ATTACH;FMTTYPE=image/png:https://friends-of-jesus.de/wp-content/uploads/2023/09/GoDi.png
ORGANIZER;CN="Friends of Jesus":MAILTO:info@friends-of-jesus.de
END:VEVENT
BEGIN:VEVENT
DTSTART;TZID=Europe/Berlin:20250316T103000
DTEND;TZID=Europe/Berlin:20250316T120000
DTSTAMP:20260420T145951
CREATED:20250308T074618Z
LAST-MODIFIED:20250308T074937Z
UID:10002063-1742121000-1742126400@friends-of-jesus.de
SUMMARY:Gottesdienst mit Marcel Rebiai
DESCRIPTION:Herzliche Einladung zu unserem nächsten Gottesdienst – wir freuen uns\, dass Marcel und sein Sohn Immanuel aus Israel bei uns sind und sind gespannt auf seine Botschaft.  \nWas dich erwartet?\nAnbetung\, Botschaft\, Kindergottesdienste und Gemeinschaft… \nWir freuen uns auf dich!\nSei dabei – vor Ort oder per Livestream
URL:https://friends-of-jesus.de/event/gottesdienst-3/
LOCATION:FOJ-Halle\, Im Hähnchen 8\, Altenkirchen\, RLP\, 57610\, Deutschland
CATEGORIES:Featured,Gottesdienst
ATTACH;FMTTYPE=image/png:https://friends-of-jesus.de/wp-content/uploads/2025/03/2025.03_GoDi_Marcel_Rebiai.png
ORGANIZER;CN="Friends of Jesus":MAILTO:info@friends-of-jesus.de
END:VEVENT
BEGIN:VEVENT
DTSTART;TZID=Europe/Berlin:20250302T103000
DTEND;TZID=Europe/Berlin:20250302T120000
DTSTAMP:20260420T145951
CREATED:20250103T153358Z
LAST-MODIFIED:20250103T153358Z
UID:10000861-1740911400-1740916800@friends-of-jesus.de
SUMMARY:Gottesdienst
DESCRIPTION:Was dich erwartet?\nAnbetung\, Botschaft\, Kindergottesdienste und Gemeinschaft… \nWir freuen uns auf dich!
URL:https://friends-of-jesus.de/event/gottesdienst-2-2-2/2025-03-02/
LOCATION:FOJ-Halle\, Im Hähnchen 8\, Altenkirchen\, RLP\, 57610\, Deutschland
CATEGORIES:Gottesdienst
ATTACH;FMTTYPE=image/png:https://friends-of-jesus.de/wp-content/uploads/2023/09/GoDi.png
ORGANIZER;CN="Friends of Jesus":MAILTO:info@friends-of-jesus.de
END:VEVENT
BEGIN:VEVENT
DTSTART;TZID=Europe/Berlin:20250223T103000
DTEND;TZID=Europe/Berlin:20250223T120000
DTSTAMP:20260420T145951
CREATED:20250103T153358Z
LAST-MODIFIED:20250103T153358Z
UID:10001931-1740306600-1740312000@friends-of-jesus.de
SUMMARY:Gottesdienst
DESCRIPTION:Was dich erwartet?\nAnbetung\, Botschaft\, Kindergottesdienste und Gemeinschaft… \nWir freuen uns auf dich!
URL:https://friends-of-jesus.de/event/gottesdienst-2-2-2/2025-02-23/
LOCATION:FOJ-Halle\, Im Hähnchen 8\, Altenkirchen\, RLP\, 57610\, Deutschland
CATEGORIES:Gottesdienst
ATTACH;FMTTYPE=image/png:https://friends-of-jesus.de/wp-content/uploads/2023/09/GoDi.png
ORGANIZER;CN="Friends of Jesus":MAILTO:info@friends-of-jesus.de
END:VEVENT
BEGIN:VEVENT
DTSTART;TZID=Europe/Berlin:20250216T103000
DTEND;TZID=Europe/Berlin:20250216T120000
DTSTAMP:20260420T145951
CREATED:20250103T153358Z
LAST-MODIFIED:20250103T153358Z
UID:10000860-1739701800-1739707200@friends-of-jesus.de
SUMMARY:Gottesdienst
DESCRIPTION:Was dich erwartet?\nAnbetung\, Botschaft\, Kindergottesdienste und Gemeinschaft… \nWir freuen uns auf dich!
URL:https://friends-of-jesus.de/event/gottesdienst-2-2-2/2025-02-16/
LOCATION:FOJ-Halle\, Im Hähnchen 8\, Altenkirchen\, RLP\, 57610\, Deutschland
CATEGORIES:Gottesdienst
ATTACH;FMTTYPE=image/png:https://friends-of-jesus.de/wp-content/uploads/2023/09/GoDi.png
ORGANIZER;CN="Friends of Jesus":MAILTO:info@friends-of-jesus.de
END:VEVENT
BEGIN:VEVENT
DTSTART;TZID=Europe/Berlin:20250209T103000
DTEND;TZID=Europe/Berlin:20250209T120000
DTSTAMP:20260420T145951
CREATED:20250103T153358Z
LAST-MODIFIED:20250103T153358Z
UID:10001930-1739097000-1739102400@friends-of-jesus.de
SUMMARY:Gottesdienst
DESCRIPTION:Was dich erwartet?\nAnbetung\, Botschaft\, Kindergottesdienste und Gemeinschaft… \nWir freuen uns auf dich!
URL:https://friends-of-jesus.de/event/gottesdienst-2-2-2/2025-02-09/
LOCATION:FOJ-Halle\, Im Hähnchen 8\, Altenkirchen\, RLP\, 57610\, Deutschland
CATEGORIES:Gottesdienst
ATTACH;FMTTYPE=image/png:https://friends-of-jesus.de/wp-content/uploads/2023/09/GoDi.png
ORGANIZER;CN="Friends of Jesus":MAILTO:info@friends-of-jesus.de
END:VEVENT
END:VCALENDAR