BEGIN:VCALENDAR
VERSION:2.0
PRODID:-//Friends of Jesus e.V. - ECPv6.15.20//NONSGML v1.0//EN
CALSCALE:GREGORIAN
METHOD:PUBLISH
X-ORIGINAL-URL:https://friends-of-jesus.de
X-WR-CALDESC:Veranstaltungen für Friends of Jesus e.V.
REFRESH-INTERVAL;VALUE=DURATION:PT1H
X-Robots-Tag:noindex
X-PUBLISHED-TTL:PT1H
BEGIN:VTIMEZONE
TZID:Europe/Berlin
BEGIN:DAYLIGHT
TZOFFSETFROM:+0100
TZOFFSETTO:+0200
TZNAME:CEST
DTSTART:20230326T010000
END:DAYLIGHT
BEGIN:STANDARD
TZOFFSETFROM:+0200
TZOFFSETTO:+0100
TZNAME:CET
DTSTART:20231029T010000
END:STANDARD
BEGIN:DAYLIGHT
TZOFFSETFROM:+0100
TZOFFSETTO:+0200
TZNAME:CEST
DTSTART:20240331T010000
END:DAYLIGHT
BEGIN:STANDARD
TZOFFSETFROM:+0200
TZOFFSETTO:+0100
TZNAME:CET
DTSTART:20241027T010000
END:STANDARD
BEGIN:DAYLIGHT
TZOFFSETFROM:+0100
TZOFFSETTO:+0200
TZNAME:CEST
DTSTART:20250330T010000
END:DAYLIGHT
BEGIN:STANDARD
TZOFFSETFROM:+0200
TZOFFSETTO:+0100
TZNAME:CET
DTSTART:20251026T010000
END:STANDARD
END:VTIMEZONE
BEGIN:VEVENT
DTSTART;TZID=Europe/Berlin:20240622T150000
DTEND;TZID=Europe/Berlin:20240622T170000
DTSTAMP:20260421T013436
CREATED:20240429T184549Z
LAST-MODIFIED:20250308T074551Z
UID:10000690-1719068400-1719075600@friends-of-jesus.de
SUMMARY:LIMONADEN DATE
DESCRIPTION:Wenn Jojo\, der Papagei aus Hawaii\, Schlummilei\, das süße Schaf\, Leo Löwe und ihre Freunde auftauchen\, wissen alle Bescheid – es ist LIMONADEN DATE! \nAm Samstag\, den 31. Mai 2025 starten wir wieder durch mit unserem Limonaden Date! Wir freuen uns\, wenn auch du dabei bist\, wenn Schlummilei und Jojo ein gemein-sames Abenteuer mit Gott erleben. Lade doch auch herzlich deine Freunde ein.
URL:https://friends-of-jesus.de/event/limonaden-date-2/
LOCATION:FOJ-Halle\, Im Hähnchen 8\, Altenkirchen\, RLP\, 57610\, Deutschland
CATEGORIES:Featured,LIMONADEN DATE
ATTACH;FMTTYPE=image/png:https://friends-of-jesus.de/wp-content/uploads/2024/04/2025.05_Limodate.png
ORGANIZER;CN="Friends of Jesus":MAILTO:info@friends-of-jesus.de
END:VEVENT
BEGIN:VEVENT
DTSTART;TZID=Europe/Berlin:20240623T103000
DTEND;TZID=Europe/Berlin:20240623T120000
DTSTAMP:20260421T013436
CREATED:20240315T213602Z
LAST-MODIFIED:20240315T213603Z
UID:10000417-1719138600-1719144000@friends-of-jesus.de
SUMMARY:Gottesdienst
DESCRIPTION:Was dich erwartet?\nAnbetung\, Botschaft\, Kindergottesdienste und Gemeinschaft… \nWir freuen uns auf dich!
URL:https://friends-of-jesus.de/event/gottesdienst-2-2/2024-06-23/
LOCATION:FOJ-Halle\, Im Hähnchen 8\, Altenkirchen\, RLP\, 57610\, Deutschland
CATEGORIES:Gottesdienst
ATTACH;FMTTYPE=image/png:https://friends-of-jesus.de/wp-content/uploads/2023/09/GoDi.png
ORGANIZER;CN="Friends of Jesus":MAILTO:info@friends-of-jesus.de
END:VEVENT
END:VCALENDAR