BEGIN:VCALENDAR
VERSION:2.0
PRODID:-//Friends of Jesus e.V. - ECPv6.15.20//NONSGML v1.0//EN
CALSCALE:GREGORIAN
METHOD:PUBLISH
X-ORIGINAL-URL:https://friends-of-jesus.de
X-WR-CALDESC:Veranstaltungen für Friends of Jesus e.V.
REFRESH-INTERVAL;VALUE=DURATION:PT1H
X-Robots-Tag:noindex
X-PUBLISHED-TTL:PT1H
BEGIN:VTIMEZONE
TZID:Europe/Berlin
BEGIN:DAYLIGHT
TZOFFSETFROM:+0100
TZOFFSETTO:+0200
TZNAME:CEST
DTSTART:20270328T010000
END:DAYLIGHT
BEGIN:STANDARD
TZOFFSETFROM:+0200
TZOFFSETTO:+0100
TZNAME:CET
DTSTART:20271031T010000
END:STANDARD
BEGIN:DAYLIGHT
TZOFFSETFROM:+0100
TZOFFSETTO:+0200
TZNAME:CEST
DTSTART:20280326T010000
END:DAYLIGHT
BEGIN:STANDARD
TZOFFSETFROM:+0200
TZOFFSETTO:+0100
TZNAME:CET
DTSTART:20281029T010000
END:STANDARD
BEGIN:DAYLIGHT
TZOFFSETFROM:+0100
TZOFFSETTO:+0200
TZNAME:CEST
DTSTART:20290325T010000
END:DAYLIGHT
BEGIN:STANDARD
TZOFFSETFROM:+0200
TZOFFSETTO:+0100
TZNAME:CET
DTSTART:20291028T010000
END:STANDARD
END:VTIMEZONE
BEGIN:VEVENT
DTSTART;TZID=Europe/Berlin:20281227T160000
DTEND;TZID=Europe/Berlin:20281227T173000
DTSTAMP:20260426T052517
CREATED:20241125T202455Z
LAST-MODIFIED:20251124T165104Z
UID:10002229-1861545600-1861551000@friends-of-jesus.de
SUMMARY:Weihnachts-Gottesdienst
DESCRIPTION:Herzliche Einladung zu unserem Weihnachts-Gottesdienst an Heiligabend \n24. Dez. 2025 | 16.00 – ca. 17.30 Uhr\nFriends of Jesus-Halle\, Im Hähnchen 8\, 57610 Altenkirchen
URL:https://friends-of-jesus.de/event/heiligabend-gottesdienst-2/2028-12-27/
LOCATION:FOJ-Halle\, Im Hähnchen 8\, Altenkirchen\, RLP\, 57610\, Deutschland
CATEGORIES:Featured,Gottesdienst
ATTACH;FMTTYPE=image/png:https://friends-of-jesus.de/wp-content/uploads/2024/11/2025.12-Heiligabend-1.png
ORGANIZER;CN="Friends of Jesus":MAILTO:info@friends-of-jesus.de
END:VEVENT
BEGIN:VEVENT
DTSTART;TZID=Europe/Berlin:20281231T103000
DTEND;TZID=Europe/Berlin:20281231T120000
DTSTAMP:20260426T052517
CREATED:20251027T135022Z
LAST-MODIFIED:20251031T105445Z
UID:10002162-1861871400-1861876800@friends-of-jesus.de
SUMMARY:Gottesdienst
DESCRIPTION:Was dich erwartet?\nAnbetung\, Botschaft\, Kindergottesdienste und Gemeinschaft… \nWir freuen uns auf dich!
URL:https://friends-of-jesus.de/event/gottesdienst-2-2-2-2-2/2028-12-31/
LOCATION:FOJ-Halle\, Im Hähnchen 8\, Altenkirchen\, RLP\, 57610\, Deutschland
CATEGORIES:Gottesdienst
ATTACH;FMTTYPE=image/png:https://friends-of-jesus.de/wp-content/uploads/2023/09/GoDi.png
ORGANIZER;CN="Friends of Jesus":MAILTO:info@friends-of-jesus.de
END:VEVENT
END:VCALENDAR